BEGIN:VCALENDAR
VERSION:2.0
PRODID:-//AudioTheme 3.0.2
BEGIN:VEVENT
UID:https://www.katharinafranck.de/?post_type=audiotheme_gig&#038;p=1326
URL:https://www.katharinafranck.de/shows/2016-11-05/
DTSTART;TZID=GMT:20161105T190000
SUMMARY:30 Jahre Begine - Treffpunkt und Kulturzentrum für Frauen
DESCRIPTION:KF solo - Kurzauftritt zum Geburtstag der "Begine"
LOCATION:Begine - Treffpunkt und Kultur für Frauen\, Potsdamer Str. 139 \, Berlin\, \, Germany\, 10783
END:VEVENT
END:VCALENDAR
