BEGIN:VCALENDAR
VERSION:2.0
PRODID:-//AudioTheme 3.0.2
BEGIN:VEVENT
UID:urn:uuid:5897c2b3-afe4-4ba0-82e8-179fb2063b9d
URL:https://www.katharinafranck.de/shows/hanse-song-festival-2024-katharina-franck-werner-neumann-im-duo/
DTSTART;VALUE=DATE:20240504
SUMMARY:Hanse Song Festival 2024 – Katharina Franck &#038; Werner Neumann im Duo
DESCRIPTION:Werner Neumann und Katharina Franck spielen gemeinsam Songs der Rainbirds und aus KFs Soloprogrammen\, ergänzt durch eine kleine\, überraschende Auswahl interessanter Coverversionen
LOCATION:Hanse Song Festival 2024 in Stade\, Königsmarcksaal Hökerstraße 2\, Stade\, Niedersachsen\, 21682
END:VEVENT
END:VCALENDAR
