BEGIN:VCALENDAR
VERSION:2.0
PRODID:-//AudioTheme 3.0.2
BEGIN:VEVENT
UID:urn:uuid:59a5fd5a-1092-419e-9d54-e8b65b56f0d2
URL:https://www.katharinafranck.de/shows/kf-bei-der-10-jahre-nollendorf-blog-gala-im-tipi-am-kanzleramt/
DTSTART;TZID=GMT:20190528T180000
SUMMARY:KF bei der "10 Jahre Nollendorf-Blog"-Gala im Tipi am Kanzleramt
DESCRIPTION:KF solo u. v. a. bei der Gala zur Feier des zehnjährigen Bestehens des "Ich hab ja nichts gegen Schwule\, aber..." - Nollendorfblogs von Johannes Kram\, der dafür den Toleratia Award 2018 erhielt. 
LOCATION:Tipi am Kanzleramt\, Große Querallee\, Berlin\, \, 10557
END:VEVENT
END:VCALENDAR
