BEGIN:VCALENDAR
VERSION:2.0
PRODID:-//AudioTheme 3.0.2
BEGIN:VEVENT
UID:urn:uuid:59186491-f6cc-4d71-a7fe-17e1a1da0ea2
URL:https://www.katharinafranck.de/shows/kf-solo-doppelkonzert-in-wuppertal/
DTSTART;TZID=GMT:20200424T173000
SUMMARY:Abgesagt - KF Solo bei "Doppelkonzert" in Wuppertal
DESCRIPTION:ABGESAGT - Info zu evtl. Ersatztermin in 2021 folgt nach - "Doppelkonzert" mit Katharina Franck plus Uwe Sandfort & Martin Hermann
LOCATION:CityKirche Elberfeld\, Kirchplatz 2\, Wuppertal\, \, 42103
END:VEVENT
END:VCALENDAR
