BEGIN:VCALENDAR
VERSION:2.0
PRODID:-//AudioTheme 3.0.2
BEGIN:VEVENT
UID:urn:uuid:fd27c2d3-08ed-424c-8b7c-e70f79cb5bb2
URL:https://www.katharinafranck.de/shows/passos-do-vento-in-dresden-in-planung/
DTSTART;TZID=GMT:20220703T150000
SUMMARY:Passos do Vento in Lochwitz
DESCRIPTION:Zélia Fonseca (git.\,voc.) Christoph Bernewitz (git.)\, Markus Runzheimer (bass)\, Katharina Franck (voc.\, git.)
LOCATION:Lochwitz Weidengrund\, Weidengrund 8\, Lochwitz\, Sachsen-Anhalt\, DE\, 06347
END:VEVENT
END:VCALENDAR
