BEGIN:VCALENDAR
VERSION:2.0
PRODID:-//AudioTheme 3.0.2
BEGIN:VEVENT
UID:urn:uuid:9b6b4bb9-023c-4aca-8448-116d546fb2e9
URL:https://www.katharinafranck.de/shows/rainbirds-through-the-web-of-time-40-years-one-voice-in-siegen/
DTSTART;TZID=GMT:20260524T193000
SUMMARY:Rainbirds – Through The Web Of Time – 40 Years, One Voice
DESCRIPTION:Rainbirds - Sextett (ohne Rodrigo González)
LOCATION:Kulturpur Festival\, Gillerbergstr. 23\, Hilchenbach\, \, 57271
END:VEVENT
END:VCALENDAR
